BEGIN:VCALENDAR
VERSION:2.0
PRODID:-//Child&#039;s Voice - ECPv6.15.20//NONSGML v1.0//EN
CALSCALE:GREGORIAN
METHOD:PUBLISH
X-WR-CALNAME:Child&#039;s Voice
X-ORIGINAL-URL:https://childsvoice.org
X-WR-CALDESC:Events for Child&#039;s Voice
REFRESH-INTERVAL;VALUE=DURATION:PT1H
X-Robots-Tag:noindex
X-PUBLISHED-TTL:PT1H
BEGIN:VTIMEZONE
TZID:UTC
BEGIN:STANDARD
TZOFFSETFROM:+0000
TZOFFSETTO:+0000
TZNAME:UTC
DTSTART:20210101T000000
END:STANDARD
END:VTIMEZONE
BEGIN:VEVENT
DTSTART;TZID=UTC:20220823T083000
DTEND;TZID=UTC:20220823T133000
DTSTAMP:20260420T081507
CREATED:20220721T141248Z
LAST-MODIFIED:20231012T021353Z
UID:10000212-1661243400-1661261400@childsvoice.org
SUMMARY:Early Dismissal 1:30
DESCRIPTION:
URL:https://childsvoice.org/event/early-dismissal-130-4/
LOCATION:IL
CATEGORIES:Early Dismissal
END:VEVENT
BEGIN:VEVENT
DTSTART;TZID=UTC:20220822T083000
DTEND;TZID=UTC:20220822T133000
DTSTAMP:20260420T081507
CREATED:20220721T194605Z
LAST-MODIFIED:20231012T021353Z
UID:10000236-1661157000-1661175000@childsvoice.org
SUMMARY:Back to School
DESCRIPTION:Welcome back to the 2022-2023 School Year. Early dismissal today at 1:30 p.m.
URL:https://childsvoice.org/event/back-to-school/
LOCATION:Fuel and Creme\, 324 E. Central Blvd\, Lombard\, IL\, 60681\, United States
CATEGORIES:School Events
END:VEVENT
BEGIN:VEVENT
DTSTART;TZID=UTC:20220722T000000
DTEND;TZID=UTC:20220722T000000
DTSTAMP:20260420T081507
CREATED:20220721T141137Z
LAST-MODIFIED:20231012T021353Z
UID:10000031-1658448000-1658448000@childsvoice.org
SUMMARY:Family Reunions
DESCRIPTION:Our 2017 Family Reunion was all about seeing old friends and making new ones.  We had a wonderful picnic area at Franzen Grove in Wood Dale with lawn games\, face painting\, a magician and animals.  We initiated lower ticket prices and pay-as-you-go food options that were well received by our 80 guests. \nStay tuned for information on upcoming reunions! \n \n  \n 
URL:https://childsvoice.org/event/family-reunions/
LOCATION:IL
CATEGORIES:School Events
END:VEVENT
END:VCALENDAR